BEGIN:VCALENDAR
VERSION:2.0
PRODID:-//ChamberMaster//Event Calendar 2.0//EN
METHOD:PUBLISH
X-PUBLISHED-TTL:P3D
REFRESH-INTERVAL:P3D
CALSCALE:GREGORIAN
BEGIN:VEVENT
DTSTART:20201210T190000Z
DTEND:20201210T195000Z
X-MICROSOFT-CDO-ALLDAYEVENT:FALSE
SUMMARY:MWED Annual Member Meeting
DESCRIPTION:Please join us for the 2020 MWED Annual Member Virtual Meeting!!  \n\n\n\n2020 has been a year for the books\, and we are all ready for the next chapter! Before we turn the page\, MWED has had a major impact on the Flathead Valley this year\, and we want to share some exciting developments with you\, our valued members. With the help from our partners at Vault Media\, this annual meeting will be one you won't want to miss!\n\n\n\nFor an added BONUS\, the attendee with the ugliest holiday sweater will win a valuable gift basket!  You must be present on Zoom to win.
X-ALT-DESC;FMTTYPE=text/html:Please join us for the 2020 MWED Annual Member Virtual Meeting!!&nbsp\;&nbsp\;<br />\n<br />\n2020 has been a year for the books\, and we are all ready for the next chapter! Before we turn the page\, MWED has had a major impact on the Flathead Valley this year\, and we want to share some exciting developments with you\, our valued members.&nbsp\;With the help from our partners at Vault Media\, this annual meeting will be one you won&#39\;t want to miss!<br />\n<br />\n<em>For an added BONUS\, the attendee with the<u> ugliest holiday sweater</u> will win a valuable gift basket!&nbsp\; You must be present on Zoom to win.&nbsp\;</em>
LOCATION:Zoom Virtual meeting
UID:e.9263.54
SEQUENCE:3
DTSTAMP:20260421T041557Z
URL:http://dobusinessinmontana.memberzone.com/events/details/mwed-annual-member-meeting-54
END:VEVENT

END:VCALENDAR
