BEGIN:VCALENDAR
VERSION:2.0
PRODID:-//ChamberMaster//Event Calendar 2.0//EN
METHOD:PUBLISH
X-PUBLISHED-TTL:P3D
REFRESH-INTERVAL:P3D
CALSCALE:GREGORIAN
BEGIN:VEVENT
DTSTART:20170221T143000Z
DTEND:20170221T170000Z
X-MICROSOFT-CDO-ALLDAYEVENT:FALSE
SUMMARY:Flathead Valley Economic Forecast
DESCRIPTION:The 15th Annual Flathead Valley Economic Forecast will feature Special Guest Economist Joe Mahon from the Federal Reserve Bank of Minneapolis.
X-ALT-DESC;FMTTYPE=text/html:The 15th Annual Flathead Valley Economic Forecast will feature Special Guest&nbsp\;Economist Joe Mahon from the Federal Reserve Bank of Minneapolis.&nbsp\;
LOCATION:Flathead Valley Community College Arts & Technology Building\, Room 139
UID:e.9263.44
SEQUENCE:3
DTSTAMP:20260424T151238Z
URL:http://dobusinessinmontana.memberzone.com/events/details/flathead-valley-economic-forecast-44
END:VEVENT

END:VCALENDAR
