BEGIN:VCALENDAR
VERSION:2.0
PRODID:-//ChamberMaster//Event Calendar 2.0//EN
METHOD:PUBLISH
X-PUBLISHED-TTL:P3D
REFRESH-INTERVAL:P3D
CALSCALE:GREGORIAN
BEGIN:VEVENT
DTSTART:20160203T150000Z
DTEND:20160203T170000Z
X-MICROSOFT-CDO-ALLDAYEVENT:FALSE
SUMMARY:Flathead Valley Economic Forecast
DESCRIPTION:The 14th Annual Flathead Valley Economic Forecast will feature Special Guest Economist Joe Mahon from the Federal Reserve Bank of Minneapolis. Mr. Mahon's primary responsibilities involve tracking several sectors of the Ninth District economy\; an area that covers Minnesota\, North and South Dakota\, Montana\, and portions of Wisconsin and Michigan. For the 2016 Flathead Forecast\, he will discuss the economic outlook for the Ninth District based on the most recent economic indicators and the Minneapolis Federal Reserve's forecasting model. Mr. Mahon holds degrees in Economics and Journalism from the University of Minnesota.  \n\n\n\nDr. Brad Eldredge of Flathead Valley Community College will return this year to review the change in employment in various industries in the Flathead Valley\, and present a forecast for 2016. \n\n\n\nAlso returning are Certified General Appraisers Ellie Clark\, MAI with Clark Real Estate Appraisal\, and Barbra Bennett\, MAI\, of Bennett Appraisal Services\, who will recap the 2015 residential and commercial real estate markets and look at what is to come for 2016.
X-ALT-DESC;FMTTYPE=text/html:The 14th Annual Flathead Valley Economic Forecast will feature Special Guest&nbsp\;Economist Joe Mahon from the Federal Reserve Bank of Minneapolis. Mr. Mahon&#39\;s primary responsibilities&nbsp\;involve tracking several sectors of the Ninth District economy\; an area that covers Minnesota\, North and South Dakota\, Montana\, and portions of Wisconsin and Michigan. For the 2016 Flathead Forecast\, he will discuss the economic outlook for the Ninth District based on the most recent economic indicators and the Minneapolis Federal Reserve&#39\;s forecasting model. Mr. Mahon holds degrees in Economics and Journalism from the University of Minnesota.&nbsp\;&nbsp\;<br />\n<br />\nDr. Brad Eldredge of Flathead Valley Community College will return this year to review the change in employment in various industries in the Flathead Valley\, and present a forecast for 2016.&nbsp\;<br />\n<br />\nAlso returning are Certified General Appraisers&nbsp\;Ellie Clark\, MAI with Clark Real Estate Appraisal\,&nbsp\;and Barbra Bennett\, MAI\, of Bennett Appraisal Services\, who will recap the 2015 residential&nbsp\;and commercial real estate markets and look at what is to come for 2016.
LOCATION:Flathead Valley Community College Arts & Technology Building\, Room 139
UID:e.9263.7
SEQUENCE:3
DTSTAMP:20260425T175956Z
URL:http://dobusinessinmontana.memberzone.com/events/details/flathead-valley-economic-forecast-02-03-2016-7
END:VEVENT

END:VCALENDAR
