BEGIN:VCALENDAR
VERSION:2.0
PRODID:-//ChamberMaster//Event Calendar 2.0//EN
METHOD:PUBLISH
X-PUBLISHED-TTL:P3D
REFRESH-INTERVAL:P3D
CALSCALE:GREGORIAN
BEGIN:VEVENT
DTSTART:20170517T143000Z
DTEND:20170517T180000Z
X-MICROSOFT-CDO-ALLDAYEVENT:FALSE
SUMMARY:Embezzlement and Fraud Seminar
DESCRIPTION:What Every Business Owner Needs to Know:\n\nEmbezzlement CAN Happen to You!\n\nEven in Smalltown U.S.A.\, Companies fall Victim to Fraud!\n\nYou CAN Spot\, Stop\, and Prevent Fraud!\n\n\n\nKeynote Speaker\n\nSecret Service Officer Tadd Downs\n\nDepartment of Homeland Security\n\n\n\nMarket President Robert Nystuen\n\n Glacier Bank
X-ALT-DESC;FMTTYPE=text/html:What Every Business Owner Needs to Know:<br />\nEmbezzlement CAN Happen to You!<br />\nEven in Smalltown U.S.A.\, Companies fall Victim to Fraud!<br />\nYou CAN Spot\, Stop\, and Prevent Fraud!<br />\n<br />\nKeynote Speaker<br />\nSecret Service Officer Tadd Downs<br />\nDepartment of Homeland Security<br />\n<br />\nMarket President Robert Nystuen<br />\n&#8203\;Glacier Bank
LOCATION:FVCC Room AT144
UID:e.9263.46
SEQUENCE:3
DTSTAMP:20260424T090554Z
URL:http://dobusinessinmontana.memberzone.com/events/details/embezzlement-and-fraud-seminar-46
END:VEVENT

END:VCALENDAR
