BEGIN:VCALENDAR
VERSION:2.0
PRODID:-//ChamberMaster//Event Calendar 2.0//EN
METHOD:PUBLISH
X-PUBLISHED-TTL:P3D
REFRESH-INTERVAL:P3D
CALSCALE:GREGORIAN
BEGIN:VEVENT
DTSTART:20180613T140000Z
DTEND:20180613T203000Z
X-MICROSOFT-CDO-ALLDAYEVENT:FALSE
SUMMARY:Broadband Initiative
DESCRIPTION:
X-ALT-DESC;FMTTYPE=text/html:
LOCATION:
UID:e.9263.50
SEQUENCE:3
DTSTAMP:20260423T081008Z
URL:http://dobusinessinmontana.memberzone.com/events/details/broadband-initiative-50
END:VEVENT

END:VCALENDAR
