BEGIN:VCALENDAR
VERSION:2.0
PRODID:-//ChamberMaster//Event Calendar 2.0//EN
METHOD:PUBLISH
X-PUBLISHED-TTL:P3D
REFRESH-INTERVAL:P3D
CALSCALE:GREGORIAN
BEGIN:VEVENT
DTSTART:20231207T230000Z
DTEND:20231208T020000Z
X-MICROSOFT-CDO-ALLDAYEVENT:FALSE
SUMMARY:Annual Membership Meeting
DESCRIPTION:Join Montana West Economic Development for our annual membership meeting on Thursday\, December 7 at 4 p.m. at Basecamp Coworking (643 Denver St.) in Whitefish.  The meeting portion will begin promptly at 4 p.m. and include the election of our new board slate\, some highlights from the past year\, our finances for the year ahead\, and speakers. Following the meeting there will be a networking reception with drinks and appetizers.
X-ALT-DESC;FMTTYPE=text/html:Join Montana West Economic Development for our annual membership meeting on Thursday\, December 7 at 4 p.m. at Basecamp Coworking (643 Denver St.) in Whitefish.&nbsp\; The meeting portion will begin promptly at 4 p.m. and include the election of our new board slate\, some highlights from the past year\, our finances for the year ahead\, and speakers. Following the meeting there will be a networking reception with drinks and appetizers.
LOCATION:Basecamp Coworking\, 643 Denver St. in Whitefish
UID:e.9263.56
SEQUENCE:3
DTSTAMP:20260420T180917Z
URL:http://dobusinessinmontana.memberzone.com/events/details/annual-membership-meeting-56
END:VEVENT

END:VCALENDAR
