BEGIN:VCALENDAR
VERSION:2.0
PRODID:-//ChamberMaster//Event Calendar 2.0//EN
METHOD:PUBLISH
X-PUBLISHED-TTL:P3D
REFRESH-INTERVAL:P3D
CALSCALE:GREGORIAN
BEGIN:VEVENT
DTSTART:20161214T190000Z
DTEND:20161214T200000Z
X-MICROSOFT-CDO-ALLDAYEVENT:FALSE
SUMMARY:Annual Meeting & Luncheon 2016
DESCRIPTION:Making Connections\, Connecting the Dots\n\n     from\n\nYesterday's Accomplishments to Tomorrows Successes\n\n\n\nPlease join Montana West Economic Development for our Annual Members Meeting & Luncheon.  We will share how we have impacted the Flathead Valley and individual businesses this past year\, and also give you a preview of what is to come for our organization.  \n\n\n\nThis event is open to the public.
X-ALT-DESC;FMTTYPE=text/html:<strong>Making Connections\, Connecting the Dots<br />\n&nbsp\; &nbsp\; &nbsp\;from<br />\nYesterday&#39\;s Accomplishments to Tomorrows Successes</strong><br />\n<br />\nPlease join Montana West Economic Development for our Annual Members Meeting &amp\; Luncheon. &nbsp\;We will share how we have impacted the Flathead Valley and individual businesses this past year\, and also give you a preview of what is to come for our organization. &nbsp\;<br />\n<br />\nThis event is open to the public.&nbsp\;&nbsp\;&nbsp\;&nbsp\;
LOCATION:Hilton Garden Inn 1840 Highway 93 South Kalispell\, MT 59901
UID:e.9263.29
SEQUENCE:3
DTSTAMP:20260424T190604Z
URL:http://dobusinessinmontana.memberzone.com/events/details/annual-meeting-luncheon-2016-11-16-2016-29
END:VEVENT

END:VCALENDAR
