BEGIN:VCALENDAR
VERSION:2.0
PRODID:-//ChamberMaster//Event Calendar 2.0//EN
METHOD:PUBLISH
X-PUBLISHED-TTL:P3D
REFRESH-INTERVAL:P3D
CALSCALE:GREGORIAN
BEGIN:VEVENT
DTSTART:20151118T190000Z
DTEND:20151118T203000Z
X-MICROSOFT-CDO-ALLDAYEVENT:FALSE
SUMMARY:Annual Meeting & Luncheon 2015
DESCRIPTION:You are invited to join us for our annual celebration of Montana West supporting economic development in the Flathead Valley.
X-ALT-DESC;FMTTYPE=text/html:You are invited to join us for our annual celebration of Montana West supporting economic development in the Flathead Valley. &nbsp\;
LOCATION:Red Lion Hotel 20 N. Main Street Kalispell\, MT 59901
UID:e.9263.6
SEQUENCE:3
DTSTAMP:20260425T222647Z
URL:http://dobusinessinmontana.memberzone.com/events/details/annual-meeting-luncheon-2015-11-18-2015-6
END:VEVENT

END:VCALENDAR
